BEGIN:VCALENDAR
VERSION:2.0
PRODID:-//Visalia Talks - ECPv6.10.2//NONSGML v1.0//EN
CALSCALE:GREGORIAN
METHOD:PUBLISH
X-WR-CALNAME:Visalia Talks
X-ORIGINAL-URL:https://visaliatalks.com
X-WR-CALDESC:Events for Visalia Talks
REFRESH-INTERVAL;VALUE=DURATION:PT1H
X-Robots-Tag:noindex
X-PUBLISHED-TTL:PT1H
BEGIN:VTIMEZONE
TZID:America/Los_Angeles
BEGIN:DAYLIGHT
TZOFFSETFROM:-0800
TZOFFSETTO:-0700
TZNAME:PDT
DTSTART:20250309T100000
END:DAYLIGHT
BEGIN:STANDARD
TZOFFSETFROM:-0700
TZOFFSETTO:-0800
TZNAME:PST
DTSTART:20251102T090000
END:STANDARD
END:VTIMEZONE
BEGIN:VEVENT
DTSTART;TZID=America/Los_Angeles:20250322T100000
DTEND;TZID=America/Los_Angeles:20250322T140000
DTSTAMP:20260421T054902
CREATED:20250312T234735Z
LAST-MODIFIED:20250312T234735Z
UID:278-1742637600-1742652000@visaliatalks.com
SUMMARY:Women Empowerment Resource Fair
DESCRIPTION:
URL:https://visaliatalks.com/event/women-empowerment-resource-fair/
LOCATION:College of the Sequoias\, 915 S. Mooney Blvd.\, Visalia\, CA\, 93277\, United States
END:VEVENT
BEGIN:VEVENT
DTSTART;TZID=America/Los_Angeles:20250314T210000
DTEND;TZID=America/Los_Angeles:20250315T020000
DTSTAMP:20260421T054902
CREATED:20250312T235336Z
LAST-MODIFIED:20250312T235336Z
UID:281-1741986000-1742004000@visaliatalks.com
SUMMARY:Electric Dance Nights Presents Electric Luck
DESCRIPTION:
URL:https://visaliatalks.com/event/electric-dance-nights-presents-electric-luck/
LOCATION:The Fifth Quarter\, 3360 S. Fairway St.\, Visalia\, CA\, 93277\, United States
END:VEVENT
BEGIN:VEVENT
DTSTART;TZID=America/Los_Angeles:20250312T200000
DTEND;TZID=America/Los_Angeles:20250312T235900
DTSTAMP:20260421T054902
CREATED:20250312T231031Z
LAST-MODIFIED:20250312T234403Z
UID:268-1741809600-1741823940@visaliatalks.com
SUMMARY:Karaoke Wednesdays with DJ Chuckiee at the Cellar Door
DESCRIPTION:
URL:https://visaliatalks.com/event/karaoke-wednesdays-with-dj-chuckiee-at-the-cellar-door/
LOCATION:Cellar Door\, 101 W. Main St.\, Visalia\, CA\, 93291\, United States
END:VEVENT
END:VCALENDAR